BEGIN:VCALENDAR
VERSION:2.0
PRODID:-//Squarespace Inc/Squarespace 6//v6//EN
BEGIN:VEVENT
UID:5cd5133a971a18263c764b8a@squarespace.com
DTSTAMP:20190521T232623Z
DTSTART:20190525T230000Z
DTEND:20190526T060000Z
SUMMARY:The Coal Loader Artisan markets
END:VEVENT
END:VCALENDAR
