BEGIN:VCALENDAR
VERSION:2.0
PRODID:-//Squarespace Inc/Squarespace 6//v6//EN
BEGIN:VEVENT
UID:5e24266b3e92f9543969fe60@squarespace.com
DTSTAMP:20200119T100840Z
DTSTART:20200211T073000Z
DTEND:20200310T100000Z
SUMMARY:Textile Screen Printing Course
GEO:-33.867671;151.172813
LOCATION:Sydney Community College\, Gordon Street\, Rozelle\, NSW\, 2039\, 
 Australia
END:VEVENT
END:VCALENDAR
