BEGIN:VCALENDAR
VERSION:2.0
PRODID:-//Squarespace Inc/Squarespace 6//v6//EN
BEGIN:VEVENT
UID:5e23c48e2e103654eb70009c@squarespace.com
DTSTAMP:20200119T030848Z
DTSTART:20200221T230000Z
DTEND:20200314T030000Z
SUMMARY:Printing Studio Intensives
GEO:-33.886923;151.196486
LOCATION:Pine Street Creative Centre\, Pine Street\, Chippendale\, NSW\, 20
 08\, Australia
END:VEVENT
END:VCALENDAR
