BEGIN:VCALENDAR
VERSION:2.0
PRODID:-//Squarespace Inc/Squarespace 6//v6//EN
BEGIN:VEVENT
UID:5f02d9e138f0572cbab740f9@squarespace.com
DTSTAMP:20200706T083015Z
DTSTART:20200612T120000Z
DTEND:20200816T070000Z
SUMMARY:Petite - miniature textiles exhibition
GEO:-36.355747;146.322667
LOCATION:Wangaratta Art Gallery\, 56 Ovens Street\, Wangaratta\, VIC\, 3677
 \, Australia
END:VEVENT
END:VCALENDAR
