BEGIN:VCALENDAR
VERSION:2.0
PRODID:-//Squarespace Inc/Squarespace 6//v6//EN
BEGIN:VEVENT
UID:5e23b91d6fef6f177e2ed37e@squarespace.com
DTSTAMP:20200119T024943Z
DTSTART:20200213T070000Z
DTEND:20200305T100000Z
SUMMARY: Lino Block Printing classes
GEO:-33.886923;151.196486
LOCATION:Pine Street Creative Centre\, Pine Street\, Chippendale\, NSW\, 20
 08\, Australia
END:VEVENT
END:VCALENDAR
