BEGIN:VCALENDAR
VERSION:2.0
PRODID:-//Squarespace Inc/Squarespace 6//v6//EN
BEGIN:VEVENT
UID:5d196da09fb4dc0001fb2cfb@squarespace.com
DTSTAMP:20191102T020255Z
DTSTART:20191023T230000Z
DTEND:20191103T060000Z
SUMMARY:A Handmade Life 3
GEO:-33.887847;151.176086
LOCATION:Chrissie Cotter Gallery\, Pidcock Street\, Camperdown\, NSW\, 2050
 \, Australia
END:VEVENT
END:VCALENDAR
