BEGIN:VCALENDAR
VERSION:2.0
PRODID:-//Squarespace Inc/Squarespace 6//v6//EN
BEGIN:VEVENT
UID:5cd7b4bde624d80001d64246@squarespace.com
DTSTAMP:20190512T080652Z
DTSTART:20190614T230000Z
DTEND:20190615T060000Z
SUMMARY:Glebe Artisan Markets
END:VEVENT
END:VCALENDAR
