BEGIN:VCALENDAR
VERSION:2.0
PRODID:-//Squarespace Inc/Squarespace 6//v6//EN
BEGIN:VEVENT
UID:5f30cc7ce1ef704aebca0a23@squarespace.com
DTSTAMP:20200810T081751Z
DTSTART:20200822T000000Z
DTEND:20200822T060000Z
SUMMARY:BLOCK PRINTING CLASS
GEO:-33.867252;151.17299
LOCATION:Sydney Community College\, 8 Gordon ST\, ROZELLE\, Australia
END:VEVENT
END:VCALENDAR
