BEGIN:VCALENDAR
VERSION:2.0
PRODID:-//Squarespace Inc/Squarespace 6//v6//EN
BEGIN:VEVENT
UID:5dd1b9be01bff5552dbb591a@squarespace.com
DTSTAMP:20191117T213236Z
DTSTART:20191213T230000Z
DTEND:20191214T040000Z
SUMMARY:Artisan Market Glebe
END:VEVENT
END:VCALENDAR
